BEGIN:VCALENDAR
VERSION:2.0
PRODID:-//Umbrella Yoga - ECPv6.14.2//NONSGML v1.0//EN
CALSCALE:GREGORIAN
METHOD:PUBLISH
X-ORIGINAL-URL:https://umbrellayoga.co.uk
X-WR-CALDESC:Events for Umbrella Yoga
REFRESH-INTERVAL;VALUE=DURATION:PT1H
X-Robots-Tag:noindex
X-PUBLISHED-TTL:PT1H
BEGIN:VTIMEZONE
TZID:Europe/London
BEGIN:DAYLIGHT
TZOFFSETFROM:+0000
TZOFFSETTO:+0100
TZNAME:BST
DTSTART:20250330T010000
END:DAYLIGHT
BEGIN:STANDARD
TZOFFSETFROM:+0100
TZOFFSETTO:+0000
TZNAME:GMT
DTSTART:20251026T010000
END:STANDARD
END:VTIMEZONE
BEGIN:VEVENT
DTSTART;TZID=Europe/London:20250520T093000
DTEND;TZID=Europe/London:20250520T103000
DTSTAMP:20260421T104818
CREATED:20241213T173030Z
LAST-MODIFIED:20250418T122724Z
UID:10001100-1747733400-1747737000@umbrellayoga.co.uk
SUMMARY:Open To All\, Women Only Yoga in Netherton
DESCRIPTION:
URL:https://umbrellayoga.co.uk/event/open-to-all-women-only-yoga-in-netherton/2025-05-20/
LOCATION:Netherton Methodist Church\, 1 Deyne Road\, Netherton\, HD4 7ET
ORGANIZER;CN="Umbrella Yoga":MAILTO:hello@umbrellayoga.co.uk
END:VEVENT
BEGIN:VEVENT
DTSTART;TZID=Europe/London:20250520T130000
DTEND;TZID=Europe/London:20250520T140000
DTSTAMP:20260421T104818
CREATED:20250407T135408Z
LAST-MODIFIED:20250714T134533Z
UID:10001035-1747746000-1747749600@umbrellayoga.co.uk
SUMMARY:Open To All\, Yoga\, Batley
DESCRIPTION:
URL:https://umbrellayoga.co.uk/event/open-to-all-yoga-batley-3/2025-05-20/
LOCATION:Trinity Centre\, Batley\, 4A Upper Rd\, Batley\, WF17 7LT
ORGANIZER;CN="Umbrella Yoga":MAILTO:hello@umbrellayoga.co.uk
END:VEVENT
BEGIN:VEVENT
DTSTART;TZID=Europe/London:20250520T180000
DTEND;TZID=Europe/London:20250520T190000
DTSTAMP:20260421T104818
CREATED:20250423T161245Z
LAST-MODIFIED:20250506T163859Z
UID:10001174-1747764000-1747767600@umbrellayoga.co.uk
SUMMARY:Open to All Yoga\, Dewsbury
DESCRIPTION:
URL:https://umbrellayoga.co.uk/event/open-to-all-yoga-dewsbury/2025-05-20/
LOCATION:Westborough Methodist Centre\, Westborough Methodist Church\, Dewsbury\, WF13 4ND\, United Kingdom
ORGANIZER;CN="Umbrella Yoga":MAILTO:hello@umbrellayoga.co.uk
END:VEVENT
BEGIN:VEVENT
DTSTART;TZID=Europe/London:20250521T103000
DTEND;TZID=Europe/London:20250521T113000
DTSTAMP:20260421T104818
CREATED:20241220T175503Z
LAST-MODIFIED:20250605T154700Z
UID:10000950-1747823400-1747827000@umbrellayoga.co.uk
SUMMARY:Open To All\, Yoga in Dewsbury
DESCRIPTION:
URL:https://umbrellayoga.co.uk/event/open-to-all-yoga-in-dewsbury-2-2/2025-05-21/
LOCATION:Westborough Methodist Centre\, Westborough Methodist Church\, Dewsbury\, WF13 4ND\, United Kingdom
ORGANIZER;CN="Umbrella Yoga":MAILTO:hello@umbrellayoga.co.uk
END:VEVENT
BEGIN:VEVENT
DTSTART;TZID=Europe/London:20250521T110000
DTEND;TZID=Europe/London:20250521T120000
DTSTAMP:20260421T104818
CREATED:20241219T163947Z
LAST-MODIFIED:20250717T145726Z
UID:10000899-1747825200-1747828800@umbrellayoga.co.uk
SUMMARY:Open To All\, Chair Yoga in Ravensthorpe
DESCRIPTION:
URL:https://umbrellayoga.co.uk/event/open-to-all-chair-yoga-in-ravensthorpe-3/2025-05-21/
LOCATION:Ravensthorpe Community Centre\, 24 Garden St\, Ravensthorpe\, Dewsbury\, WF13 3AR
ORGANIZER;CN="Umbrella Yoga":MAILTO:hello@umbrellayoga.co.uk
END:VEVENT
BEGIN:VEVENT
DTSTART;TZID=Europe/London:20250521T180000
DTEND;TZID=Europe/London:20250521T190000
DTSTAMP:20260421T104818
CREATED:20250131T183159Z
LAST-MODIFIED:20250428T153219Z
UID:10001215-1747850400-1747854000@umbrellayoga.co.uk
SUMMARY:Open To All\, Yoga in Thornhill Lees
DESCRIPTION:
URL:https://umbrellayoga.co.uk/event/open-to-all-yoga-in-thornhill-lees-3/2025-05-21/
LOCATION:Thornhill Lees Community Centre\, 53 Brewery Ln\, Dewsbury\, WF12 9DU
ORGANIZER;CN="Umbrella Yoga":MAILTO:hello@umbrellayoga.co.uk
END:VEVENT
BEGIN:VEVENT
DTSTART;TZID=Europe/London:20250522T093000
DTEND;TZID=Europe/London:20250522T103000
DTSTAMP:20260421T104818
CREATED:20250427T142703Z
LAST-MODIFIED:20250427T142703Z
UID:10001187-1747906200-1747909800@umbrellayoga.co.uk
SUMMARY:Open to All\, Yoga in Cowlersley
DESCRIPTION:
URL:https://umbrellayoga.co.uk/event/open-to-all-yoga-in-cowlersley/2025-05-22/
LOCATION:Storth House\, Cowlersley\, 156 Cowlersley Ln\, Cowlersley\, Huddersfield\, HD4 5UX
ORGANIZER;CN="Umbrella Yoga":MAILTO:hello@umbrellayoga.co.uk
END:VEVENT
BEGIN:VEVENT
DTSTART;TZID=Europe/London:20250522T114500
DTEND;TZID=Europe/London:20250522T124500
DTSTAMP:20260421T104818
CREATED:20250304T154442Z
LAST-MODIFIED:20250725T113506Z
UID:10001198-1747914300-1747917900@umbrellayoga.co.uk
SUMMARY:Open To All - People Affected by Cancer\, Ravensthorpe
DESCRIPTION:
URL:https://umbrellayoga.co.uk/event/open-to-all-people-affected-by-cancer-ravensthorpe-2-2/2025-05-22/
LOCATION:Ravensthorpe Community Centre\, 24 Garden St\, Ravensthorpe\, Dewsbury\, WF13 3AR
ORGANIZER;CN="Umbrella Yoga":MAILTO:hello@umbrellayoga.co.uk
END:VEVENT
BEGIN:VEVENT
DTSTART;TZID=Europe/London:20250523T131500
DTEND;TZID=Europe/London:20250523T141500
DTSTAMP:20260421T104818
CREATED:20250228T173706Z
LAST-MODIFIED:20250525T143528Z
UID:10001138-1748006100-1748009700@umbrellayoga.co.uk
SUMMARY:Chair Yoga suited to people with Dementia\, Cognitive Impairment\, Older Adults and Carers. Cleckheaton
DESCRIPTION:
URL:https://umbrellayoga.co.uk/event/chair-yoga-suited-to-people-with-dementia-cognitive-impairment-older-adults-and-carers-cleckheaton-2-2-2-2/2025-05-23/
LOCATION:Cleckheaton Library\, Cleckheaton\, Whitcliffe Road\, Cleckheaton\, BD19 3DX
ORGANIZER;CN="Umbrella Yoga":MAILTO:hello@umbrellayoga.co.uk
END:VEVENT
BEGIN:VEVENT
DTSTART;TZID=Europe/London:20250524T093000
DTEND;TZID=Europe/London:20250524T103000
DTSTAMP:20260421T104818
CREATED:20250411T084156Z
LAST-MODIFIED:20250714T133752Z
UID:10001166-1748079000-1748082600@umbrellayoga.co.uk
SUMMARY:Open to All\, Yoga in Dalton
DESCRIPTION:
URL:https://umbrellayoga.co.uk/event/open-to-all-yoga-in-dalton/2025-05-24/
LOCATION:The Kirkwood\, Dalton\, 21 Albany Rd\, Huddersfield\, HD5 9UY
ORGANIZER;CN="Umbrella Yoga":MAILTO:hello@umbrellayoga.co.uk
END:VEVENT
BEGIN:VEVENT
DTSTART;TZID=Europe/London:20250527T093000
DTEND;TZID=Europe/London:20250527T103000
DTSTAMP:20260421T104818
CREATED:20241213T173030Z
LAST-MODIFIED:20250418T122724Z
UID:10001101-1748338200-1748341800@umbrellayoga.co.uk
SUMMARY:Open To All\, Women Only Yoga in Netherton
DESCRIPTION:
URL:https://umbrellayoga.co.uk/event/open-to-all-women-only-yoga-in-netherton/2025-05-27/
LOCATION:Netherton Methodist Church\, 1 Deyne Road\, Netherton\, HD4 7ET
ORGANIZER;CN="Umbrella Yoga":MAILTO:hello@umbrellayoga.co.uk
END:VEVENT
BEGIN:VEVENT
DTSTART;TZID=Europe/London:20250527T130000
DTEND;TZID=Europe/London:20250527T140000
DTSTAMP:20260421T104818
CREATED:20250407T135408Z
LAST-MODIFIED:20250714T134533Z
UID:10001036-1748350800-1748354400@umbrellayoga.co.uk
SUMMARY:Open To All\, Yoga\, Batley
DESCRIPTION:
URL:https://umbrellayoga.co.uk/event/open-to-all-yoga-batley-3/2025-05-27/
LOCATION:Trinity Centre\, Batley\, 4A Upper Rd\, Batley\, WF17 7LT
ORGANIZER;CN="Umbrella Yoga":MAILTO:hello@umbrellayoga.co.uk
END:VEVENT
BEGIN:VEVENT
DTSTART;TZID=Europe/London:20250528T103000
DTEND;TZID=Europe/London:20250528T113000
DTSTAMP:20260421T104818
CREATED:20241220T175503Z
LAST-MODIFIED:20250605T154700Z
UID:10000951-1748428200-1748431800@umbrellayoga.co.uk
SUMMARY:Open To All\, Yoga in Dewsbury
DESCRIPTION:
URL:https://umbrellayoga.co.uk/event/open-to-all-yoga-in-dewsbury-2-2/2025-05-28/
LOCATION:Westborough Methodist Centre\, Westborough Methodist Church\, Dewsbury\, WF13 4ND\, United Kingdom
ORGANIZER;CN="Umbrella Yoga":MAILTO:hello@umbrellayoga.co.uk
END:VEVENT
BEGIN:VEVENT
DTSTART;TZID=Europe/London:20250528T110000
DTEND;TZID=Europe/London:20250528T120000
DTSTAMP:20260421T104818
CREATED:20241219T163947Z
LAST-MODIFIED:20250717T145726Z
UID:10000900-1748430000-1748433600@umbrellayoga.co.uk
SUMMARY:Open To All\, Chair Yoga in Ravensthorpe
DESCRIPTION:
URL:https://umbrellayoga.co.uk/event/open-to-all-chair-yoga-in-ravensthorpe-3/2025-05-28/
LOCATION:Ravensthorpe Community Centre\, 24 Garden St\, Ravensthorpe\, Dewsbury\, WF13 3AR
ORGANIZER;CN="Umbrella Yoga":MAILTO:hello@umbrellayoga.co.uk
END:VEVENT
BEGIN:VEVENT
DTSTART;TZID=Europe/London:20250528T180000
DTEND;TZID=Europe/London:20250528T190000
DTSTAMP:20260421T104818
CREATED:20250131T183159Z
LAST-MODIFIED:20250428T153219Z
UID:10001216-1748455200-1748458800@umbrellayoga.co.uk
SUMMARY:Open To All\, Yoga in Thornhill Lees
DESCRIPTION:
URL:https://umbrellayoga.co.uk/event/open-to-all-yoga-in-thornhill-lees-3/2025-05-28/
LOCATION:Thornhill Lees Community Centre\, 53 Brewery Ln\, Dewsbury\, WF12 9DU
ORGANIZER;CN="Umbrella Yoga":MAILTO:hello@umbrellayoga.co.uk
END:VEVENT
BEGIN:VEVENT
DTSTART;TZID=Europe/London:20250529T093000
DTEND;TZID=Europe/London:20250529T103000
DTSTAMP:20260421T104818
CREATED:20250427T142703Z
LAST-MODIFIED:20250427T142703Z
UID:10001188-1748511000-1748514600@umbrellayoga.co.uk
SUMMARY:Open to All\, Yoga in Cowlersley
DESCRIPTION:
URL:https://umbrellayoga.co.uk/event/open-to-all-yoga-in-cowlersley/2025-05-29/
LOCATION:Storth House\, Cowlersley\, 156 Cowlersley Ln\, Cowlersley\, Huddersfield\, HD4 5UX
ORGANIZER;CN="Umbrella Yoga":MAILTO:hello@umbrellayoga.co.uk
END:VEVENT
BEGIN:VEVENT
DTSTART;TZID=Europe/London:20250529T123000
DTEND;TZID=Europe/London:20250529T133000
DTSTAMP:20260421T104818
CREATED:20250305T113713Z
LAST-MODIFIED:20250305T113713Z
UID:10001078-1748521800-1748525400@umbrellayoga.co.uk
SUMMARY:Perinatal yoga - yoga specifically for those who are pregnant or postnatal
DESCRIPTION:Babies welcome
URL:https://umbrellayoga.co.uk/event/perinatal-yoga-yoga-specifically-for-those-who-are-pregnant-or-postnatal/2025-05-29/
LOCATION:Denby Dale Methodist Church\, 273 Cumberworth Lane\, Huddersfield\, HD8 8QS
ORGANIZER;CN="Umbrella Yoga":MAILTO:hello@umbrellayoga.co.uk
END:VEVENT
BEGIN:VEVENT
DTSTART;TZID=Europe/London:20250529T133000
DTEND;TZID=Europe/London:20250529T143000
DTSTAMP:20260421T104818
CREATED:20250525T143630Z
LAST-MODIFIED:20250530T114211Z
UID:10001239-1748525400-1748529000@umbrellayoga.co.uk
SUMMARY:Chair Yoga suited to people with Dementia\, Cognitive Impairment\, Older Adults and Carers. Cleckheaton
DESCRIPTION:
URL:https://umbrellayoga.co.uk/event/chair-yoga-suited-to-people-with-dementia-cognitive-impairment-older-adults-and-carers-cleckheaton-2/2025-05-29/
LOCATION:Cleckheaton Library\, Cleckheaton\, Whitcliffe Road\, Cleckheaton\, BD19 3DX
ORGANIZER;CN="Umbrella Yoga":MAILTO:hello@umbrellayoga.co.uk
END:VEVENT
BEGIN:VEVENT
DTSTART;TZID=Europe/London:20250531T093000
DTEND;TZID=Europe/London:20250531T103000
DTSTAMP:20260421T104818
CREATED:20250411T084156Z
LAST-MODIFIED:20250714T133752Z
UID:10001167-1748683800-1748687400@umbrellayoga.co.uk
SUMMARY:Open to All\, Yoga in Dalton
DESCRIPTION:
URL:https://umbrellayoga.co.uk/event/open-to-all-yoga-in-dalton/2025-05-31/
LOCATION:The Kirkwood\, Dalton\, 21 Albany Rd\, Huddersfield\, HD5 9UY
ORGANIZER;CN="Umbrella Yoga":MAILTO:hello@umbrellayoga.co.uk
END:VEVENT
BEGIN:VEVENT
DTSTART;TZID=Europe/London:20250602T120000
DTEND;TZID=Europe/London:20250602T130000
DTSTAMP:20260421T104818
CREATED:20250307T121709Z
LAST-MODIFIED:20250519T135057Z
UID:10001212-1748865600-1748869200@umbrellayoga.co.uk
SUMMARY:Open To All - Communities in Recovery\, Huddersfield
DESCRIPTION:
URL:https://umbrellayoga.co.uk/event/open-to-all-communities-in-recovery-huddersfield-2/2025-06-02/
LOCATION:Clare House\, Clare Hill\, Huddersfield\, HD1 5BS
ORGANIZER;CN="Umbrella Yoga":MAILTO:hello@umbrellayoga.co.uk
END:VEVENT
BEGIN:VEVENT
DTSTART;TZID=Europe/London:20250602T130000
DTEND;TZID=Europe/London:20250602T140000
DTSTAMP:20260421T104818
CREATED:20250404T153648Z
LAST-MODIFIED:20250404T153648Z
UID:10001150-1748869200-1748872800@umbrellayoga.co.uk
SUMMARY:Chair Yoga suited to people with Dementia\, Cognitive Impairment\, Older Adults and Carers. Dewsbury
DESCRIPTION:
URL:https://umbrellayoga.co.uk/event/chair-yoga-suited-to-people-with-dementia-cognitive-impairment-older-adults-and-carers-dewsbury/2025-06-02/
LOCATION:Rosewood Centre\, Dewsbury\, 15 Halifax Road\, Staincliffe\, Batley\, Dewsbury\, WF13 4AF
ORGANIZER;CN="Umbrella Yoga":MAILTO:hello@umbrellayoga.co.uk
END:VEVENT
BEGIN:VEVENT
DTSTART;TZID=Europe/London:20250603T093000
DTEND;TZID=Europe/London:20250603T103000
DTSTAMP:20260421T104818
CREATED:20250525T144802Z
LAST-MODIFIED:20250616T144008Z
UID:10001240-1748943000-1748946600@umbrellayoga.co.uk
SUMMARY:Open To All\, Women Only Yoga in Netherton
DESCRIPTION:
URL:https://umbrellayoga.co.uk/event/open-to-all-women-only-yoga-in-netherton-2/2025-06-03/
LOCATION:Netherton Methodist Church\, 1 Deyne Road\, Netherton\, HD4 7ET
ORGANIZER;CN="Umbrella Yoga":MAILTO:hello@umbrellayoga.co.uk
END:VEVENT
BEGIN:VEVENT
DTSTART;TZID=Europe/London:20250603T130000
DTEND;TZID=Europe/London:20250603T140000
DTSTAMP:20260421T104818
CREATED:20250407T135408Z
LAST-MODIFIED:20250714T134533Z
UID:10001037-1748955600-1748959200@umbrellayoga.co.uk
SUMMARY:Open To All\, Yoga\, Batley
DESCRIPTION:
URL:https://umbrellayoga.co.uk/event/open-to-all-yoga-batley-3/2025-06-03/
LOCATION:Trinity Centre\, Batley\, 4A Upper Rd\, Batley\, WF17 7LT
ORGANIZER;CN="Umbrella Yoga":MAILTO:hello@umbrellayoga.co.uk
END:VEVENT
BEGIN:VEVENT
DTSTART;TZID=Europe/London:20250603T180000
DTEND;TZID=Europe/London:20250603T190000
DTSTAMP:20260421T104818
CREATED:20250423T161245Z
LAST-MODIFIED:20250506T163859Z
UID:10001176-1748973600-1748977200@umbrellayoga.co.uk
SUMMARY:Open to All Yoga\, Dewsbury
DESCRIPTION:
URL:https://umbrellayoga.co.uk/event/open-to-all-yoga-dewsbury/2025-06-03/
LOCATION:Westborough Methodist Centre\, Westborough Methodist Church\, Dewsbury\, WF13 4ND\, United Kingdom
ORGANIZER;CN="Umbrella Yoga":MAILTO:hello@umbrellayoga.co.uk
END:VEVENT
BEGIN:VEVENT
DTSTART;TZID=Europe/London:20250604T103000
DTEND;TZID=Europe/London:20250604T113000
DTSTAMP:20260421T104818
CREATED:20241220T175503Z
LAST-MODIFIED:20250605T154700Z
UID:10000952-1749033000-1749036600@umbrellayoga.co.uk
SUMMARY:Open To All\, Yoga in Dewsbury
DESCRIPTION:
URL:https://umbrellayoga.co.uk/event/open-to-all-yoga-in-dewsbury-2-2/2025-06-04/
LOCATION:Westborough Methodist Centre\, Westborough Methodist Church\, Dewsbury\, WF13 4ND\, United Kingdom
ORGANIZER;CN="Umbrella Yoga":MAILTO:hello@umbrellayoga.co.uk
END:VEVENT
BEGIN:VEVENT
DTSTART;TZID=Europe/London:20250604T110000
DTEND;TZID=Europe/London:20250604T120000
DTSTAMP:20260421T104818
CREATED:20241219T163947Z
LAST-MODIFIED:20250717T145726Z
UID:10000901-1749034800-1749038400@umbrellayoga.co.uk
SUMMARY:Open To All\, Chair Yoga in Ravensthorpe
DESCRIPTION:
URL:https://umbrellayoga.co.uk/event/open-to-all-chair-yoga-in-ravensthorpe-3/2025-06-04/
LOCATION:Ravensthorpe Community Centre\, 24 Garden St\, Ravensthorpe\, Dewsbury\, WF13 3AR
ORGANIZER;CN="Umbrella Yoga":MAILTO:hello@umbrellayoga.co.uk
END:VEVENT
BEGIN:VEVENT
DTSTART;TZID=Europe/London:20250604T180000
DTEND;TZID=Europe/London:20250604T190000
DTSTAMP:20260421T104818
CREATED:20250131T183159Z
LAST-MODIFIED:20250428T153219Z
UID:10001217-1749060000-1749063600@umbrellayoga.co.uk
SUMMARY:Open To All\, Yoga in Thornhill Lees
DESCRIPTION:
URL:https://umbrellayoga.co.uk/event/open-to-all-yoga-in-thornhill-lees-3/2025-06-04/
LOCATION:Thornhill Lees Community Centre\, 53 Brewery Ln\, Dewsbury\, WF12 9DU
ORGANIZER;CN="Umbrella Yoga":MAILTO:hello@umbrellayoga.co.uk
END:VEVENT
BEGIN:VEVENT
DTSTART;TZID=Europe/London:20250605T093000
DTEND;TZID=Europe/London:20250605T103000
DTSTAMP:20260421T104818
CREATED:20250427T142703Z
LAST-MODIFIED:20250427T142703Z
UID:10001189-1749115800-1749119400@umbrellayoga.co.uk
SUMMARY:Open to All\, Yoga in Cowlersley
DESCRIPTION:
URL:https://umbrellayoga.co.uk/event/open-to-all-yoga-in-cowlersley/2025-06-05/
LOCATION:Storth House\, Cowlersley\, 156 Cowlersley Ln\, Cowlersley\, Huddersfield\, HD4 5UX
ORGANIZER;CN="Umbrella Yoga":MAILTO:hello@umbrellayoga.co.uk
END:VEVENT
BEGIN:VEVENT
DTSTART;TZID=Europe/London:20250605T114500
DTEND;TZID=Europe/London:20250605T124500
DTSTAMP:20260421T104818
CREATED:20250304T154442Z
LAST-MODIFIED:20250725T113506Z
UID:10001200-1749123900-1749127500@umbrellayoga.co.uk
SUMMARY:Open To All - People Affected by Cancer\, Ravensthorpe
DESCRIPTION:
URL:https://umbrellayoga.co.uk/event/open-to-all-people-affected-by-cancer-ravensthorpe-2-2/2025-06-05/
LOCATION:Ravensthorpe Community Centre\, 24 Garden St\, Ravensthorpe\, Dewsbury\, WF13 3AR
ORGANIZER;CN="Umbrella Yoga":MAILTO:hello@umbrellayoga.co.uk
END:VEVENT
BEGIN:VEVENT
DTSTART;TZID=Europe/London:20250606T133000
DTEND;TZID=Europe/London:20250606T143000
DTSTAMP:20260421T104818
CREATED:20250525T143630Z
LAST-MODIFIED:20250530T114211Z
UID:10001249-1749216600-1749220200@umbrellayoga.co.uk
SUMMARY:Chair Yoga suited to people with Dementia\, Cognitive Impairment\, Older Adults and Carers. Cleckheaton
DESCRIPTION:
URL:https://umbrellayoga.co.uk/event/chair-yoga-suited-to-people-with-dementia-cognitive-impairment-older-adults-and-carers-cleckheaton-2/2025-06-06/
LOCATION:Cleckheaton Library\, Cleckheaton\, Whitcliffe Road\, Cleckheaton\, BD19 3DX
ORGANIZER;CN="Umbrella Yoga":MAILTO:hello@umbrellayoga.co.uk
END:VEVENT
END:VCALENDAR