BEGIN:VCALENDAR
VERSION:2.0
PRODID:-//Umbrella Yoga - ECPv6.14.2//NONSGML v1.0//EN
CALSCALE:GREGORIAN
METHOD:PUBLISH
X-WR-CALNAME:Umbrella Yoga
X-ORIGINAL-URL:https://umbrellayoga.co.uk
X-WR-CALDESC:Events for Umbrella Yoga
REFRESH-INTERVAL;VALUE=DURATION:PT1H
X-Robots-Tag:noindex
X-PUBLISHED-TTL:PT1H
BEGIN:VTIMEZONE
TZID:Europe/London
BEGIN:DAYLIGHT
TZOFFSETFROM:+0000
TZOFFSETTO:+0100
TZNAME:BST
DTSTART:20250330T010000
END:DAYLIGHT
BEGIN:STANDARD
TZOFFSETFROM:+0100
TZOFFSETTO:+0000
TZNAME:GMT
DTSTART:20251026T010000
END:STANDARD
END:VTIMEZONE
BEGIN:VEVENT
DTSTART;TZID=Europe/London:20250707T130000
DTEND;TZID=Europe/London:20250707T140000
DTSTAMP:20260423T212638
CREATED:20250404T153648Z
LAST-MODIFIED:20250404T153648Z
UID:10001155-1751893200-1751896800@umbrellayoga.co.uk
SUMMARY:Chair Yoga suited to people with Dementia\, Cognitive Impairment\, Older Adults and Carers. Dewsbury
DESCRIPTION:
URL:https://umbrellayoga.co.uk/event/chair-yoga-suited-to-people-with-dementia-cognitive-impairment-older-adults-and-carers-dewsbury/2025-07-07/
LOCATION:Rosewood Centre\, Dewsbury\, 15 Halifax Road\, Staincliffe\, Batley\, Dewsbury\, WF13 4AF
ORGANIZER;CN="Umbrella Yoga":MAILTO:hello@umbrellayoga.co.uk
END:VEVENT
BEGIN:VEVENT
DTSTART;TZID=Europe/London:20250708T093000
DTEND;TZID=Europe/London:20250708T103000
DTSTAMP:20260423T212638
CREATED:20250525T144802Z
LAST-MODIFIED:20250616T144008Z
UID:10001245-1751967000-1751970600@umbrellayoga.co.uk
SUMMARY:Open To All\, Women Only Yoga in Netherton
DESCRIPTION:
URL:https://umbrellayoga.co.uk/event/open-to-all-women-only-yoga-in-netherton-2/2025-07-08/
LOCATION:Netherton Methodist Church\, 1 Deyne Road\, Netherton\, HD4 7ET
ORGANIZER;CN="Umbrella Yoga":MAILTO:hello@umbrellayoga.co.uk
END:VEVENT
BEGIN:VEVENT
DTSTART;TZID=Europe/London:20250708T130000
DTEND;TZID=Europe/London:20250708T140000
DTSTAMP:20260423T212638
CREATED:20250407T135408Z
LAST-MODIFIED:20250714T134533Z
UID:10001042-1751979600-1751983200@umbrellayoga.co.uk
SUMMARY:Open To All\, Yoga\, Batley
DESCRIPTION:
URL:https://umbrellayoga.co.uk/event/open-to-all-yoga-batley-3/2025-07-08/
LOCATION:Trinity Centre\, Batley\, 4A Upper Rd\, Batley\, WF17 7LT
ORGANIZER;CN="Umbrella Yoga":MAILTO:hello@umbrellayoga.co.uk
END:VEVENT
BEGIN:VEVENT
DTSTART;TZID=Europe/London:20250708T180000
DTEND;TZID=Europe/London:20250708T190000
DTSTAMP:20260423T212638
CREATED:20250423T161245Z
LAST-MODIFIED:20250506T163859Z
UID:10001181-1751997600-1752001200@umbrellayoga.co.uk
SUMMARY:Open to All Yoga\, Dewsbury
DESCRIPTION:
URL:https://umbrellayoga.co.uk/event/open-to-all-yoga-dewsbury/2025-07-08/
LOCATION:Westborough Methodist Centre\, Westborough Methodist Church\, Dewsbury\, WF13 4ND\, United Kingdom
ORGANIZER;CN="Umbrella Yoga":MAILTO:hello@umbrellayoga.co.uk
END:VEVENT
BEGIN:VEVENT
DTSTART;TZID=Europe/London:20250709T103000
DTEND;TZID=Europe/London:20250709T113000
DTSTAMP:20260423T212638
CREATED:20241220T175503Z
LAST-MODIFIED:20250605T154700Z
UID:10000957-1752057000-1752060600@umbrellayoga.co.uk
SUMMARY:Open To All\, Yoga in Dewsbury
DESCRIPTION:
URL:https://umbrellayoga.co.uk/event/open-to-all-yoga-in-dewsbury-2-2/2025-07-09/
LOCATION:Westborough Methodist Centre\, Westborough Methodist Church\, Dewsbury\, WF13 4ND\, United Kingdom
ORGANIZER;CN="Umbrella Yoga":MAILTO:hello@umbrellayoga.co.uk
END:VEVENT
BEGIN:VEVENT
DTSTART;TZID=Europe/London:20250709T180000
DTEND;TZID=Europe/London:20250709T190000
DTSTAMP:20260423T212638
CREATED:20250131T183159Z
LAST-MODIFIED:20250428T153219Z
UID:10001222-1752084000-1752087600@umbrellayoga.co.uk
SUMMARY:Open To All\, Yoga in Thornhill Lees
DESCRIPTION:
URL:https://umbrellayoga.co.uk/event/open-to-all-yoga-in-thornhill-lees-3/2025-07-09/
LOCATION:Thornhill Lees Community Centre\, 53 Brewery Ln\, Dewsbury\, WF12 9DU
ORGANIZER;CN="Umbrella Yoga":MAILTO:hello@umbrellayoga.co.uk
END:VEVENT
BEGIN:VEVENT
DTSTART;TZID=Europe/London:20250710T093000
DTEND;TZID=Europe/London:20250710T103000
DTSTAMP:20260423T212638
CREATED:20250427T142703Z
LAST-MODIFIED:20250427T142703Z
UID:10001193-1752139800-1752143400@umbrellayoga.co.uk
SUMMARY:Open to All\, Yoga in Cowlersley
DESCRIPTION:
URL:https://umbrellayoga.co.uk/event/open-to-all-yoga-in-cowlersley/2025-07-10/
LOCATION:Storth House\, Cowlersley\, 156 Cowlersley Ln\, Cowlersley\, Huddersfield\, HD4 5UX
ORGANIZER;CN="Umbrella Yoga":MAILTO:hello@umbrellayoga.co.uk
END:VEVENT
BEGIN:VEVENT
DTSTART;TZID=Europe/London:20250710T114500
DTEND;TZID=Europe/London:20250710T124500
DTSTAMP:20260423T212638
CREATED:20250304T154442Z
LAST-MODIFIED:20250725T113506Z
UID:10001205-1752147900-1752151500@umbrellayoga.co.uk
SUMMARY:Open To All - People Affected by Cancer\, Ravensthorpe
DESCRIPTION:
URL:https://umbrellayoga.co.uk/event/open-to-all-people-affected-by-cancer-ravensthorpe-2-2/2025-07-10/
LOCATION:Ravensthorpe Community Centre\, 24 Garden St\, Ravensthorpe\, Dewsbury\, WF13 3AR
ORGANIZER;CN="Umbrella Yoga":MAILTO:hello@umbrellayoga.co.uk
END:VEVENT
BEGIN:VEVENT
DTSTART;TZID=Europe/London:20250710T123000
DTEND;TZID=Europe/London:20250710T133000
DTSTAMP:20260423T212638
CREATED:20250305T113713Z
LAST-MODIFIED:20250305T113713Z
UID:10001081-1752150600-1752154200@umbrellayoga.co.uk
SUMMARY:Perinatal yoga - yoga specifically for those who are pregnant or postnatal
DESCRIPTION:Babies welcome
URL:https://umbrellayoga.co.uk/event/perinatal-yoga-yoga-specifically-for-those-who-are-pregnant-or-postnatal/2025-07-10/
LOCATION:Denby Dale Methodist Church\, 273 Cumberworth Lane\, Huddersfield\, HD8 8QS
ORGANIZER;CN="Umbrella Yoga":MAILTO:hello@umbrellayoga.co.uk
END:VEVENT
BEGIN:VEVENT
DTSTART;TZID=Europe/London:20250711T133000
DTEND;TZID=Europe/London:20250711T143000
DTSTAMP:20260423T212638
CREATED:20250602T151937Z
LAST-MODIFIED:20250722T141006Z
UID:10001261-1752240600-1752244200@umbrellayoga.co.uk
SUMMARY:Chair Yoga suited to people with Dementia\, Cognitive Impairment\, Older Adults and Carers. Cleckheaton
DESCRIPTION:
URL:https://umbrellayoga.co.uk/event/chair-yoga-suited-to-people-with-dementia-cognitive-impairment-older-adults-and-carers-cleckheaton/2025-07-11/
LOCATION:Cleckheaton Library\, Cleckheaton\, Whitcliffe Road\, Cleckheaton\, BD19 3DX
ORGANIZER;CN="Umbrella Yoga":MAILTO:hello@umbrellayoga.co.uk
END:VEVENT
BEGIN:VEVENT
DTSTART;TZID=Europe/London:20250712T093000
DTEND;TZID=Europe/London:20250712T103000
DTSTAMP:20260423T212638
CREATED:20250411T084156Z
LAST-MODIFIED:20250714T133752Z
UID:10001250-1752312600-1752316200@umbrellayoga.co.uk
SUMMARY:Open to All\, Yoga in Dalton
DESCRIPTION:
URL:https://umbrellayoga.co.uk/event/open-to-all-yoga-in-dalton/2025-07-12/
LOCATION:The Kirkwood\, Dalton\, 21 Albany Rd\, Huddersfield\, HD5 9UY
ORGANIZER;CN="Umbrella Yoga":MAILTO:hello@umbrellayoga.co.uk
END:VEVENT
BEGIN:VEVENT
DTSTART;TZID=Europe/London:20250712T170000
DTEND;TZID=Europe/London:20250712T183000
DTSTAMP:20260423T212638
CREATED:20250619T182435Z
LAST-MODIFIED:20250619T182435Z
UID:10001267-1752339600-1752345000@umbrellayoga.co.uk
SUMMARY:Open To All\, 'Reggae Yoga Fundraiser' - Tickets £15.00
DESCRIPTION:
URL:https://umbrellayoga.co.uk/event/open-to-all-reggae-yoga-fundraiser-tickets-15-00/
LOCATION:The Legion\, Grange Estate\, Marsden\, HD7 6AJ
ORGANIZER;CN="Umbrella Yoga":MAILTO:hello@umbrellayoga.co.uk
END:VEVENT
BEGIN:VEVENT
DTSTART;TZID=Europe/London:20250714T130000
DTEND;TZID=Europe/London:20250714T140000
DTSTAMP:20260423T212638
CREATED:20250404T153648Z
LAST-MODIFIED:20250404T153648Z
UID:10001156-1752498000-1752501600@umbrellayoga.co.uk
SUMMARY:Chair Yoga suited to people with Dementia\, Cognitive Impairment\, Older Adults and Carers. Dewsbury
DESCRIPTION:
URL:https://umbrellayoga.co.uk/event/chair-yoga-suited-to-people-with-dementia-cognitive-impairment-older-adults-and-carers-dewsbury/2025-07-14/
LOCATION:Rosewood Centre\, Dewsbury\, 15 Halifax Road\, Staincliffe\, Batley\, Dewsbury\, WF13 4AF
ORGANIZER;CN="Umbrella Yoga":MAILTO:hello@umbrellayoga.co.uk
END:VEVENT
BEGIN:VEVENT
DTSTART;TZID=Europe/London:20250715T093000
DTEND;TZID=Europe/London:20250715T103000
DTSTAMP:20260423T212638
CREATED:20250525T144802Z
LAST-MODIFIED:20250616T144008Z
UID:10001246-1752571800-1752575400@umbrellayoga.co.uk
SUMMARY:Open To All\, Women Only Yoga in Netherton
DESCRIPTION:
URL:https://umbrellayoga.co.uk/event/open-to-all-women-only-yoga-in-netherton-2/2025-07-15/
LOCATION:Netherton Methodist Church\, 1 Deyne Road\, Netherton\, HD4 7ET
ORGANIZER;CN="Umbrella Yoga":MAILTO:hello@umbrellayoga.co.uk
END:VEVENT
BEGIN:VEVENT
DTSTART;TZID=Europe/London:20250715T130000
DTEND;TZID=Europe/London:20250715T150000
DTSTAMP:20260423T212638
CREATED:20250321T162838Z
LAST-MODIFIED:20250714T134441Z
UID:10001141-1752584400-1752591600@umbrellayoga.co.uk
SUMMARY:Open To All - Yoga\, Tea and Chat\, Batley
DESCRIPTION:
URL:https://umbrellayoga.co.uk/event/ota-yoga-tea-and-chat-batley/
LOCATION:Trinity Centre\, Batley\, 4A Upper Rd\, Batley\, WF17 7LT
ORGANIZER;CN="Umbrella Yoga":MAILTO:hello@umbrellayoga.co.uk
END:VEVENT
BEGIN:VEVENT
DTSTART;TZID=Europe/London:20250715T180000
DTEND;TZID=Europe/London:20250715T190000
DTSTAMP:20260423T212638
CREATED:20250423T161245Z
LAST-MODIFIED:20250506T163859Z
UID:10001182-1752602400-1752606000@umbrellayoga.co.uk
SUMMARY:Open to All Yoga\, Dewsbury
DESCRIPTION:
URL:https://umbrellayoga.co.uk/event/open-to-all-yoga-dewsbury/2025-07-15/
LOCATION:Westborough Methodist Centre\, Westborough Methodist Church\, Dewsbury\, WF13 4ND\, United Kingdom
ORGANIZER;CN="Umbrella Yoga":MAILTO:hello@umbrellayoga.co.uk
END:VEVENT
BEGIN:VEVENT
DTSTART;TZID=Europe/London:20250716T103000
DTEND;TZID=Europe/London:20250716T113000
DTSTAMP:20260423T212638
CREATED:20250714T143902Z
LAST-MODIFIED:20250715T151729Z
UID:10001290-1752661800-1752665400@umbrellayoga.co.uk
SUMMARY:Open to All\, Yoga in Dewsbury
DESCRIPTION:
URL:https://umbrellayoga.co.uk/event/open-to-all-yoga-in-dewsbury/2025-07-16/
LOCATION:Westborough Methodist Centre\, Westborough Methodist Church\, Dewsbury\, WF13 4ND\, United Kingdom
ORGANIZER;CN="Umbrella Yoga":MAILTO:hello@umbrellayoga.co.uk
END:VEVENT
BEGIN:VEVENT
DTSTART;TZID=Europe/London:20250716T110000
DTEND;TZID=Europe/London:20250716T120000
DTSTAMP:20260423T212638
CREATED:20241219T163947Z
LAST-MODIFIED:20250717T145726Z
UID:10001236-1752663600-1752667200@umbrellayoga.co.uk
SUMMARY:Open To All\, Chair Yoga in Ravensthorpe
DESCRIPTION:
URL:https://umbrellayoga.co.uk/event/open-to-all-chair-yoga-in-ravensthorpe-3/2025-07-16/
LOCATION:Ravensthorpe Community Centre\, 24 Garden St\, Ravensthorpe\, Dewsbury\, WF13 3AR
ORGANIZER;CN="Umbrella Yoga":MAILTO:hello@umbrellayoga.co.uk
END:VEVENT
BEGIN:VEVENT
DTSTART;TZID=Europe/London:20250716T180000
DTEND;TZID=Europe/London:20250716T190000
DTSTAMP:20260423T212638
CREATED:20250131T183159Z
LAST-MODIFIED:20250428T153219Z
UID:10001223-1752688800-1752692400@umbrellayoga.co.uk
SUMMARY:Open To All\, Yoga in Thornhill Lees
DESCRIPTION:
URL:https://umbrellayoga.co.uk/event/open-to-all-yoga-in-thornhill-lees-3/2025-07-16/
LOCATION:Thornhill Lees Community Centre\, 53 Brewery Ln\, Dewsbury\, WF12 9DU
ORGANIZER;CN="Umbrella Yoga":MAILTO:hello@umbrellayoga.co.uk
END:VEVENT
BEGIN:VEVENT
DTSTART;TZID=Europe/London:20250717T093000
DTEND;TZID=Europe/London:20250717T103000
DTSTAMP:20260423T212638
CREATED:20250427T142703Z
LAST-MODIFIED:20250427T142703Z
UID:10001194-1752744600-1752748200@umbrellayoga.co.uk
SUMMARY:Open to All\, Yoga in Cowlersley
DESCRIPTION:
URL:https://umbrellayoga.co.uk/event/open-to-all-yoga-in-cowlersley/2025-07-17/
LOCATION:Storth House\, Cowlersley\, 156 Cowlersley Ln\, Cowlersley\, Huddersfield\, HD4 5UX
ORGANIZER;CN="Umbrella Yoga":MAILTO:hello@umbrellayoga.co.uk
END:VEVENT
BEGIN:VEVENT
DTSTART;TZID=Europe/London:20250717T114500
DTEND;TZID=Europe/London:20250717T124500
DTSTAMP:20260423T212638
CREATED:20250304T154442Z
LAST-MODIFIED:20250725T113506Z
UID:10001206-1752752700-1752756300@umbrellayoga.co.uk
SUMMARY:Open To All - People Affected by Cancer\, Ravensthorpe
DESCRIPTION:
URL:https://umbrellayoga.co.uk/event/open-to-all-people-affected-by-cancer-ravensthorpe-2-2/2025-07-17/
LOCATION:Ravensthorpe Community Centre\, 24 Garden St\, Ravensthorpe\, Dewsbury\, WF13 3AR
ORGANIZER;CN="Umbrella Yoga":MAILTO:hello@umbrellayoga.co.uk
END:VEVENT
BEGIN:VEVENT
DTSTART;TZID=Europe/London:20250718T133000
DTEND;TZID=Europe/London:20250718T143000
DTSTAMP:20260423T212638
CREATED:20250602T151937Z
LAST-MODIFIED:20250722T141006Z
UID:10001262-1752845400-1752849000@umbrellayoga.co.uk
SUMMARY:Chair Yoga suited to people with Dementia\, Cognitive Impairment\, Older Adults and Carers. Cleckheaton
DESCRIPTION:
URL:https://umbrellayoga.co.uk/event/chair-yoga-suited-to-people-with-dementia-cognitive-impairment-older-adults-and-carers-cleckheaton/2025-07-18/
LOCATION:Cleckheaton Library\, Cleckheaton\, Whitcliffe Road\, Cleckheaton\, BD19 3DX
ORGANIZER;CN="Umbrella Yoga":MAILTO:hello@umbrellayoga.co.uk
END:VEVENT
BEGIN:VEVENT
DTSTART;TZID=Europe/London:20250718T180000
DTEND;TZID=Europe/London:20250718T200000
DTSTAMP:20260423T212638
CREATED:20250709T175542Z
LAST-MODIFIED:20250709T175542Z
UID:10001275-1752861600-1752868800@umbrellayoga.co.uk
SUMMARY:Open to All\, Fundraiser Sound Bath and Yoga Nidra
DESCRIPTION:https://www.eventbrite.co.uk/e/sound-bath-yoga-nidra-tickets-1473716378359?aff=oddtdtcreator
URL:https://umbrellayoga.co.uk/event/open-to-all-fundraiser-sound-bath-and-yoga-nidra/
LOCATION:Trinity Centre\, Batley\, 4A Upper Rd\, Batley\, WF17 7LT
ORGANIZER;CN="Umbrella Yoga":MAILTO:hello@umbrellayoga.co.uk
END:VEVENT
BEGIN:VEVENT
DTSTART;TZID=Europe/London:20250719T093000
DTEND;TZID=Europe/London:20250719T103000
DTSTAMP:20260423T212638
CREATED:20250411T084156Z
LAST-MODIFIED:20250714T133752Z
UID:10001251-1752917400-1752921000@umbrellayoga.co.uk
SUMMARY:Open to All\, Yoga in Dalton
DESCRIPTION:
URL:https://umbrellayoga.co.uk/event/open-to-all-yoga-in-dalton/2025-07-19/
LOCATION:The Kirkwood\, Dalton\, 21 Albany Rd\, Huddersfield\, HD5 9UY
ORGANIZER;CN="Umbrella Yoga":MAILTO:hello@umbrellayoga.co.uk
END:VEVENT
BEGIN:VEVENT
DTSTART;TZID=Europe/London:20250721T130000
DTEND;TZID=Europe/London:20250721T140000
DTSTAMP:20260423T212638
CREATED:20250404T153648Z
LAST-MODIFIED:20250404T153648Z
UID:10001157-1753102800-1753106400@umbrellayoga.co.uk
SUMMARY:Chair Yoga suited to people with Dementia\, Cognitive Impairment\, Older Adults and Carers. Dewsbury
DESCRIPTION:
URL:https://umbrellayoga.co.uk/event/chair-yoga-suited-to-people-with-dementia-cognitive-impairment-older-adults-and-carers-dewsbury/2025-07-21/
LOCATION:Rosewood Centre\, Dewsbury\, 15 Halifax Road\, Staincliffe\, Batley\, Dewsbury\, WF13 4AF
ORGANIZER;CN="Umbrella Yoga":MAILTO:hello@umbrellayoga.co.uk
END:VEVENT
BEGIN:VEVENT
DTSTART;TZID=Europe/London:20250722T093000
DTEND;TZID=Europe/London:20250722T103000
DTSTAMP:20260423T212638
CREATED:20250525T144802Z
LAST-MODIFIED:20250616T144008Z
UID:10001247-1753176600-1753180200@umbrellayoga.co.uk
SUMMARY:Open To All\, Women Only Yoga in Netherton
DESCRIPTION:
URL:https://umbrellayoga.co.uk/event/open-to-all-women-only-yoga-in-netherton-2/2025-07-22/
LOCATION:Netherton Methodist Church\, 1 Deyne Road\, Netherton\, HD4 7ET
ORGANIZER;CN="Umbrella Yoga":MAILTO:hello@umbrellayoga.co.uk
END:VEVENT
BEGIN:VEVENT
DTSTART;TZID=Europe/London:20250722T130000
DTEND;TZID=Europe/London:20250722T140000
DTSTAMP:20260423T212638
CREATED:20250407T135408Z
LAST-MODIFIED:20250714T134533Z
UID:10001044-1753189200-1753192800@umbrellayoga.co.uk
SUMMARY:Open To All\, Yoga\, Batley
DESCRIPTION:
URL:https://umbrellayoga.co.uk/event/open-to-all-yoga-batley-3/2025-07-22/
LOCATION:Trinity Centre\, Batley\, 4A Upper Rd\, Batley\, WF17 7LT
ORGANIZER;CN="Umbrella Yoga":MAILTO:hello@umbrellayoga.co.uk
END:VEVENT
BEGIN:VEVENT
DTSTART;TZID=Europe/London:20250722T180000
DTEND;TZID=Europe/London:20250722T190000
DTSTAMP:20260423T212638
CREATED:20250423T161245Z
LAST-MODIFIED:20250506T163859Z
UID:10001183-1753207200-1753210800@umbrellayoga.co.uk
SUMMARY:Open to All Yoga\, Dewsbury
DESCRIPTION:
URL:https://umbrellayoga.co.uk/event/open-to-all-yoga-dewsbury/2025-07-22/
LOCATION:Westborough Methodist Centre\, Westborough Methodist Church\, Dewsbury\, WF13 4ND\, United Kingdom
ORGANIZER;CN="Umbrella Yoga":MAILTO:hello@umbrellayoga.co.uk
END:VEVENT
BEGIN:VEVENT
DTSTART;TZID=Europe/London:20250723T103000
DTEND;TZID=Europe/London:20250723T113000
DTSTAMP:20260423T212638
CREATED:20250714T143902Z
LAST-MODIFIED:20250715T151729Z
UID:10001291-1753266600-1753270200@umbrellayoga.co.uk
SUMMARY:Open to All\, Yoga in Dewsbury
DESCRIPTION:
URL:https://umbrellayoga.co.uk/event/open-to-all-yoga-in-dewsbury/2025-07-23/
LOCATION:Westborough Methodist Centre\, Westborough Methodist Church\, Dewsbury\, WF13 4ND\, United Kingdom
ORGANIZER;CN="Umbrella Yoga":MAILTO:hello@umbrellayoga.co.uk
END:VEVENT
BEGIN:VEVENT
DTSTART;TZID=Europe/London:20250723T180000
DTEND;TZID=Europe/London:20250723T190000
DTSTAMP:20260423T212638
CREATED:20250131T183159Z
LAST-MODIFIED:20250428T153219Z
UID:10001224-1753293600-1753297200@umbrellayoga.co.uk
SUMMARY:Open To All\, Yoga in Thornhill Lees
DESCRIPTION:
URL:https://umbrellayoga.co.uk/event/open-to-all-yoga-in-thornhill-lees-3/2025-07-23/
LOCATION:Thornhill Lees Community Centre\, 53 Brewery Ln\, Dewsbury\, WF12 9DU
ORGANIZER;CN="Umbrella Yoga":MAILTO:hello@umbrellayoga.co.uk
END:VEVENT
END:VCALENDAR