BEGIN:VCALENDAR
VERSION:2.0
PRODID:-//Umbrella Yoga - ECPv6.14.2//NONSGML v1.0//EN
CALSCALE:GREGORIAN
METHOD:PUBLISH
X-WR-CALNAME:Umbrella Yoga
X-ORIGINAL-URL:https://umbrellayoga.co.uk
X-WR-CALDESC:Events for Umbrella Yoga
REFRESH-INTERVAL;VALUE=DURATION:PT1H
X-Robots-Tag:noindex
X-PUBLISHED-TTL:PT1H
BEGIN:VTIMEZONE
TZID:Europe/London
BEGIN:DAYLIGHT
TZOFFSETFROM:+0000
TZOFFSETTO:+0100
TZNAME:BST
DTSTART:20250330T010000
END:DAYLIGHT
BEGIN:STANDARD
TZOFFSETFROM:+0100
TZOFFSETTO:+0000
TZNAME:GMT
DTSTART:20251026T010000
END:STANDARD
BEGIN:DAYLIGHT
TZOFFSETFROM:+0000
TZOFFSETTO:+0100
TZNAME:BST
DTSTART:20260329T010000
END:DAYLIGHT
BEGIN:STANDARD
TZOFFSETFROM:+0100
TZOFFSETTO:+0000
TZNAME:GMT
DTSTART:20261025T010000
END:STANDARD
END:VTIMEZONE
BEGIN:VEVENT
DTSTART;TZID=Europe/London:20260325T180000
DTEND;TZID=Europe/London:20260325T190000
DTSTAMP:20260423T093442
CREATED:20260127T171905Z
LAST-MODIFIED:20260127T171905Z
UID:10001730-1774461600-1774465200@umbrellayoga.co.uk
SUMMARY:Open to All\, Yoga in Thornhill Lees
DESCRIPTION:
URL:https://umbrellayoga.co.uk/event/open-to-all-yoga-in-thornhill-lees/2026-03-25/
LOCATION:Thornhill Lees Community Centre\, 53 Brewery Ln\, Dewsbury\, WF12 9DU
ORGANIZER;CN="Umbrella Yoga":MAILTO:hello@umbrellayoga.co.uk
END:VEVENT
BEGIN:VEVENT
DTSTART;TZID=Europe/London:20260318T180000
DTEND;TZID=Europe/London:20260318T190000
DTSTAMP:20260423T093442
CREATED:20260127T171905Z
LAST-MODIFIED:20260127T171905Z
UID:10001729-1773856800-1773860400@umbrellayoga.co.uk
SUMMARY:Open to All\, Yoga in Thornhill Lees
DESCRIPTION:
URL:https://umbrellayoga.co.uk/event/open-to-all-yoga-in-thornhill-lees/2026-03-18/
LOCATION:Thornhill Lees Community Centre\, 53 Brewery Ln\, Dewsbury\, WF12 9DU
ORGANIZER;CN="Umbrella Yoga":MAILTO:hello@umbrellayoga.co.uk
END:VEVENT
BEGIN:VEVENT
DTSTART;TZID=Europe/London:20260311T180000
DTEND;TZID=Europe/London:20260311T190000
DTSTAMP:20260423T093442
CREATED:20260127T171905Z
LAST-MODIFIED:20260127T171905Z
UID:10001728-1773252000-1773255600@umbrellayoga.co.uk
SUMMARY:Open to All\, Yoga in Thornhill Lees
DESCRIPTION:
URL:https://umbrellayoga.co.uk/event/open-to-all-yoga-in-thornhill-lees/2026-03-11/
LOCATION:Thornhill Lees Community Centre\, 53 Brewery Ln\, Dewsbury\, WF12 9DU
ORGANIZER;CN="Umbrella Yoga":MAILTO:hello@umbrellayoga.co.uk
END:VEVENT
BEGIN:VEVENT
DTSTART;TZID=Europe/London:20260304T180000
DTEND;TZID=Europe/London:20260304T190000
DTSTAMP:20260423T093442
CREATED:20260127T171905Z
LAST-MODIFIED:20260127T171905Z
UID:10001727-1772647200-1772650800@umbrellayoga.co.uk
SUMMARY:Open to All\, Yoga in Thornhill Lees
DESCRIPTION:
URL:https://umbrellayoga.co.uk/event/open-to-all-yoga-in-thornhill-lees/2026-03-04/
LOCATION:Thornhill Lees Community Centre\, 53 Brewery Ln\, Dewsbury\, WF12 9DU
ORGANIZER;CN="Umbrella Yoga":MAILTO:hello@umbrellayoga.co.uk
END:VEVENT
BEGIN:VEVENT
DTSTART;TZID=Europe/London:20260225T180000
DTEND;TZID=Europe/London:20260225T190000
DTSTAMP:20260423T093442
CREATED:20260127T171905Z
LAST-MODIFIED:20260127T171905Z
UID:10001726-1772042400-1772046000@umbrellayoga.co.uk
SUMMARY:Open to All\, Yoga in Thornhill Lees
DESCRIPTION:
URL:https://umbrellayoga.co.uk/event/open-to-all-yoga-in-thornhill-lees/2026-02-25/
LOCATION:Thornhill Lees Community Centre\, 53 Brewery Ln\, Dewsbury\, WF12 9DU
ORGANIZER;CN="Umbrella Yoga":MAILTO:hello@umbrellayoga.co.uk
END:VEVENT
BEGIN:VEVENT
DTSTART;TZID=Europe/London:20260218T180000
DTEND;TZID=Europe/London:20260218T190000
DTSTAMP:20260423T093442
CREATED:20251030T155700Z
LAST-MODIFIED:20251126T180436Z
UID:10001560-1771437600-1771441200@umbrellayoga.co.uk
SUMMARY:Open to All\, Yoga in Thornhill
DESCRIPTION:
URL:https://umbrellayoga.co.uk/event/open-to-all-yoga-in-thornhill-2/2026-02-18/
LOCATION:Thornhill Lees Community Centre\, 53 Brewery Ln\, Dewsbury\, WF12 9DU
ORGANIZER;CN="Umbrella Yoga":MAILTO:hello@umbrellayoga.co.uk
END:VEVENT
BEGIN:VEVENT
DTSTART;TZID=Europe/London:20260211T180000
DTEND;TZID=Europe/London:20260211T190000
DTSTAMP:20260423T093442
CREATED:20251030T155700Z
LAST-MODIFIED:20251126T180436Z
UID:10001559-1770832800-1770836400@umbrellayoga.co.uk
SUMMARY:Open to All\, Yoga in Thornhill
DESCRIPTION:
URL:https://umbrellayoga.co.uk/event/open-to-all-yoga-in-thornhill-2/2026-02-11/
LOCATION:Thornhill Lees Community Centre\, 53 Brewery Ln\, Dewsbury\, WF12 9DU
ORGANIZER;CN="Umbrella Yoga":MAILTO:hello@umbrellayoga.co.uk
END:VEVENT
BEGIN:VEVENT
DTSTART;TZID=Europe/London:20260204T180000
DTEND;TZID=Europe/London:20260204T190000
DTSTAMP:20260423T093442
CREATED:20251030T155700Z
LAST-MODIFIED:20251126T180436Z
UID:10001558-1770228000-1770231600@umbrellayoga.co.uk
SUMMARY:Open to All\, Yoga in Thornhill
DESCRIPTION:
URL:https://umbrellayoga.co.uk/event/open-to-all-yoga-in-thornhill-2/2026-02-04/
LOCATION:Thornhill Lees Community Centre\, 53 Brewery Ln\, Dewsbury\, WF12 9DU
ORGANIZER;CN="Umbrella Yoga":MAILTO:hello@umbrellayoga.co.uk
END:VEVENT
BEGIN:VEVENT
DTSTART;TZID=Europe/London:20260128T180000
DTEND;TZID=Europe/London:20260128T190000
DTSTAMP:20260423T093442
CREATED:20251030T155700Z
LAST-MODIFIED:20251126T180436Z
UID:10001557-1769623200-1769626800@umbrellayoga.co.uk
SUMMARY:Open to All\, Yoga in Thornhill
DESCRIPTION:
URL:https://umbrellayoga.co.uk/event/open-to-all-yoga-in-thornhill-2/2026-01-28/
LOCATION:Thornhill Lees Community Centre\, 53 Brewery Ln\, Dewsbury\, WF12 9DU
ORGANIZER;CN="Umbrella Yoga":MAILTO:hello@umbrellayoga.co.uk
END:VEVENT
BEGIN:VEVENT
DTSTART;TZID=Europe/London:20260121T180000
DTEND;TZID=Europe/London:20260121T190000
DTSTAMP:20260423T093442
CREATED:20251030T155700Z
LAST-MODIFIED:20251126T180436Z
UID:10001556-1769018400-1769022000@umbrellayoga.co.uk
SUMMARY:Open to All\, Yoga in Thornhill
DESCRIPTION:
URL:https://umbrellayoga.co.uk/event/open-to-all-yoga-in-thornhill-2/2026-01-21/
LOCATION:Thornhill Lees Community Centre\, 53 Brewery Ln\, Dewsbury\, WF12 9DU
ORGANIZER;CN="Umbrella Yoga":MAILTO:hello@umbrellayoga.co.uk
END:VEVENT
BEGIN:VEVENT
DTSTART;TZID=Europe/London:20260114T180000
DTEND;TZID=Europe/London:20260114T190000
DTSTAMP:20260423T093442
CREATED:20251030T155700Z
LAST-MODIFIED:20251126T180436Z
UID:10001555-1768413600-1768417200@umbrellayoga.co.uk
SUMMARY:Open to All\, Yoga in Thornhill
DESCRIPTION:
URL:https://umbrellayoga.co.uk/event/open-to-all-yoga-in-thornhill-2/2026-01-14/
LOCATION:Thornhill Lees Community Centre\, 53 Brewery Ln\, Dewsbury\, WF12 9DU
ORGANIZER;CN="Umbrella Yoga":MAILTO:hello@umbrellayoga.co.uk
END:VEVENT
BEGIN:VEVENT
DTSTART;TZID=Europe/London:20260107T180000
DTEND;TZID=Europe/London:20260107T190000
DTSTAMP:20260423T093442
CREATED:20251030T155700Z
LAST-MODIFIED:20251126T180436Z
UID:10001554-1767808800-1767812400@umbrellayoga.co.uk
SUMMARY:Open to All\, Yoga in Thornhill
DESCRIPTION:
URL:https://umbrellayoga.co.uk/event/open-to-all-yoga-in-thornhill-2/2026-01-07/
LOCATION:Thornhill Lees Community Centre\, 53 Brewery Ln\, Dewsbury\, WF12 9DU
ORGANIZER;CN="Umbrella Yoga":MAILTO:hello@umbrellayoga.co.uk
END:VEVENT
BEGIN:VEVENT
DTSTART;TZID=Europe/London:20251217T180000
DTEND;TZID=Europe/London:20251217T190000
DTSTAMP:20260423T093442
CREATED:20251030T155700Z
LAST-MODIFIED:20251126T180436Z
UID:10001528-1765994400-1765998000@umbrellayoga.co.uk
SUMMARY:Open to All\, Yoga in Thornhill
DESCRIPTION:
URL:https://umbrellayoga.co.uk/event/open-to-all-yoga-in-thornhill-2/2025-12-17/
LOCATION:Thornhill Lees Community Centre\, 53 Brewery Ln\, Dewsbury\, WF12 9DU
ORGANIZER;CN="Umbrella Yoga":MAILTO:hello@umbrellayoga.co.uk
END:VEVENT
BEGIN:VEVENT
DTSTART;TZID=Europe/London:20251210T180000
DTEND;TZID=Europe/London:20251210T200000
DTSTAMP:20260423T093442
CREATED:20251118T181051Z
LAST-MODIFIED:20251118T181051Z
UID:10001567-1765389600-1765396800@umbrellayoga.co.uk
SUMMARY:Open to All\, Yoga\, Tea & Chat in Thornhill Lees
DESCRIPTION:
URL:https://umbrellayoga.co.uk/event/open-to-all-yoga-tea-chat-in-thornhill-lees-2/
LOCATION:Thornhill Lees Community Centre\, 53 Brewery Ln\, Dewsbury\, WF12 9DU
ORGANIZER;CN="Umbrella Yoga":MAILTO:hello@umbrellayoga.co.uk
END:VEVENT
BEGIN:VEVENT
DTSTART;TZID=Europe/London:20251203T180000
DTEND;TZID=Europe/London:20251203T190000
DTSTAMP:20260423T093442
CREATED:20251030T155700Z
LAST-MODIFIED:20251126T180436Z
UID:10001526-1764784800-1764788400@umbrellayoga.co.uk
SUMMARY:Open to All\, Yoga in Thornhill
DESCRIPTION:
URL:https://umbrellayoga.co.uk/event/open-to-all-yoga-in-thornhill-2/2025-12-03/
LOCATION:Thornhill Lees Community Centre\, 53 Brewery Ln\, Dewsbury\, WF12 9DU
ORGANIZER;CN="Umbrella Yoga":MAILTO:hello@umbrellayoga.co.uk
END:VEVENT
BEGIN:VEVENT
DTSTART;TZID=Europe/London:20251126T180000
DTEND;TZID=Europe/London:20251126T190000
DTSTAMP:20260423T093442
CREATED:20251030T155700Z
LAST-MODIFIED:20251126T180436Z
UID:10001525-1764180000-1764183600@umbrellayoga.co.uk
SUMMARY:Open to All\, Yoga in Thornhill
DESCRIPTION:
URL:https://umbrellayoga.co.uk/event/open-to-all-yoga-in-thornhill-2/2025-11-26/
LOCATION:Thornhill Lees Community Centre\, 53 Brewery Ln\, Dewsbury\, WF12 9DU
ORGANIZER;CN="Umbrella Yoga":MAILTO:hello@umbrellayoga.co.uk
END:VEVENT
BEGIN:VEVENT
DTSTART;TZID=Europe/London:20251119T180000
DTEND;TZID=Europe/London:20251119T190000
DTSTAMP:20260423T093442
CREATED:20251030T155700Z
LAST-MODIFIED:20251126T180436Z
UID:10001524-1763575200-1763578800@umbrellayoga.co.uk
SUMMARY:Open to All\, Yoga in Thornhill
DESCRIPTION:
URL:https://umbrellayoga.co.uk/event/open-to-all-yoga-in-thornhill-2/2025-11-19/
LOCATION:Thornhill Lees Community Centre\, 53 Brewery Ln\, Dewsbury\, WF12 9DU
ORGANIZER;CN="Umbrella Yoga":MAILTO:hello@umbrellayoga.co.uk
END:VEVENT
BEGIN:VEVENT
DTSTART;TZID=Europe/London:20251112T180000
DTEND;TZID=Europe/London:20251112T190000
DTSTAMP:20260423T093442
CREATED:20251030T155700Z
LAST-MODIFIED:20251126T180436Z
UID:10001523-1762970400-1762974000@umbrellayoga.co.uk
SUMMARY:Open to All\, Yoga in Thornhill
DESCRIPTION:
URL:https://umbrellayoga.co.uk/event/open-to-all-yoga-in-thornhill-2/2025-11-12/
LOCATION:Thornhill Lees Community Centre\, 53 Brewery Ln\, Dewsbury\, WF12 9DU
ORGANIZER;CN="Umbrella Yoga":MAILTO:hello@umbrellayoga.co.uk
END:VEVENT
BEGIN:VEVENT
DTSTART;TZID=Europe/London:20251105T180000
DTEND;TZID=Europe/London:20251105T190000
DTSTAMP:20260423T093442
CREATED:20251030T155700Z
LAST-MODIFIED:20251126T180436Z
UID:10001369-1762365600-1762369200@umbrellayoga.co.uk
SUMMARY:Open to All\, Yoga in Thornhill
DESCRIPTION:
URL:https://umbrellayoga.co.uk/event/open-to-all-yoga-in-thornhill-2/2025-11-05/
LOCATION:Thornhill Lees Community Centre\, 53 Brewery Ln\, Dewsbury\, WF12 9DU
ORGANIZER;CN="Umbrella Yoga":MAILTO:hello@umbrellayoga.co.uk
END:VEVENT
BEGIN:VEVENT
DTSTART;TZID=Europe/London:20251022T180000
DTEND;TZID=Europe/London:20251022T190000
DTSTAMP:20260423T093442
CREATED:20250723T160016Z
LAST-MODIFIED:20250804T165306Z
UID:10001368-1761156000-1761159600@umbrellayoga.co.uk
SUMMARY:Open to All\, Yoga in Thornhill
DESCRIPTION:
URL:https://umbrellayoga.co.uk/event/open-to-all-yoga-in-thornhill/2025-10-22/
LOCATION:Thornhill Lees Community Centre\, 53 Brewery Ln\, Dewsbury\, WF12 9DU
ORGANIZER;CN="Umbrella Yoga":MAILTO:hello@umbrellayoga.co.uk
END:VEVENT
BEGIN:VEVENT
DTSTART;TZID=Europe/London:20251015T180000
DTEND;TZID=Europe/London:20251015T190000
DTSTAMP:20260423T093442
CREATED:20250723T160016Z
LAST-MODIFIED:20250804T165306Z
UID:10001367-1760551200-1760554800@umbrellayoga.co.uk
SUMMARY:Open to All\, Yoga in Thornhill
DESCRIPTION:
URL:https://umbrellayoga.co.uk/event/open-to-all-yoga-in-thornhill/2025-10-15/
LOCATION:Thornhill Lees Community Centre\, 53 Brewery Ln\, Dewsbury\, WF12 9DU
ORGANIZER;CN="Umbrella Yoga":MAILTO:hello@umbrellayoga.co.uk
END:VEVENT
BEGIN:VEVENT
DTSTART;TZID=Europe/London:20251008T180000
DTEND;TZID=Europe/London:20251008T190000
DTSTAMP:20260423T093442
CREATED:20250723T160016Z
LAST-MODIFIED:20250804T165306Z
UID:10001366-1759946400-1759950000@umbrellayoga.co.uk
SUMMARY:Open to All\, Yoga in Thornhill
DESCRIPTION:
URL:https://umbrellayoga.co.uk/event/open-to-all-yoga-in-thornhill/2025-10-08/
LOCATION:Thornhill Lees Community Centre\, 53 Brewery Ln\, Dewsbury\, WF12 9DU
ORGANIZER;CN="Umbrella Yoga":MAILTO:hello@umbrellayoga.co.uk
END:VEVENT
BEGIN:VEVENT
DTSTART;TZID=Europe/London:20251001T180000
DTEND;TZID=Europe/London:20251001T190000
DTSTAMP:20260423T093442
CREATED:20250723T160016Z
LAST-MODIFIED:20250804T165306Z
UID:10001365-1759341600-1759345200@umbrellayoga.co.uk
SUMMARY:Open to All\, Yoga in Thornhill
DESCRIPTION:
URL:https://umbrellayoga.co.uk/event/open-to-all-yoga-in-thornhill/2025-10-01/
LOCATION:Thornhill Lees Community Centre\, 53 Brewery Ln\, Dewsbury\, WF12 9DU
ORGANIZER;CN="Umbrella Yoga":MAILTO:hello@umbrellayoga.co.uk
END:VEVENT
BEGIN:VEVENT
DTSTART;TZID=Europe/London:20250924T180000
DTEND;TZID=Europe/London:20250924T190000
DTSTAMP:20260423T093442
CREATED:20250723T160016Z
LAST-MODIFIED:20250804T165306Z
UID:10001364-1758736800-1758740400@umbrellayoga.co.uk
SUMMARY:Open to All\, Yoga in Thornhill
DESCRIPTION:
URL:https://umbrellayoga.co.uk/event/open-to-all-yoga-in-thornhill/2025-09-24/
LOCATION:Thornhill Lees Community Centre\, 53 Brewery Ln\, Dewsbury\, WF12 9DU
ORGANIZER;CN="Umbrella Yoga":MAILTO:hello@umbrellayoga.co.uk
END:VEVENT
BEGIN:VEVENT
DTSTART;TZID=Europe/London:20250917T180000
DTEND;TZID=Europe/London:20250917T190000
DTSTAMP:20260423T093442
CREATED:20250723T160016Z
LAST-MODIFIED:20250804T165306Z
UID:10001363-1758132000-1758135600@umbrellayoga.co.uk
SUMMARY:Open to All\, Yoga in Thornhill
DESCRIPTION:
URL:https://umbrellayoga.co.uk/event/open-to-all-yoga-in-thornhill/2025-09-17/
LOCATION:Thornhill Lees Community Centre\, 53 Brewery Ln\, Dewsbury\, WF12 9DU
ORGANIZER;CN="Umbrella Yoga":MAILTO:hello@umbrellayoga.co.uk
END:VEVENT
BEGIN:VEVENT
DTSTART;TZID=Europe/London:20250910T180000
DTEND;TZID=Europe/London:20250910T190000
DTSTAMP:20260423T093442
CREATED:20250723T160016Z
LAST-MODIFIED:20250804T165306Z
UID:10001362-1757527200-1757530800@umbrellayoga.co.uk
SUMMARY:Open to All\, Yoga in Thornhill
DESCRIPTION:
URL:https://umbrellayoga.co.uk/event/open-to-all-yoga-in-thornhill/2025-09-10/
LOCATION:Thornhill Lees Community Centre\, 53 Brewery Ln\, Dewsbury\, WF12 9DU
ORGANIZER;CN="Umbrella Yoga":MAILTO:hello@umbrellayoga.co.uk
END:VEVENT
BEGIN:VEVENT
DTSTART;TZID=Europe/London:20250903T180000
DTEND;TZID=Europe/London:20250903T190000
DTSTAMP:20260423T093442
CREATED:20250723T160016Z
LAST-MODIFIED:20250804T165306Z
UID:10001361-1756922400-1756926000@umbrellayoga.co.uk
SUMMARY:Open to All\, Yoga in Thornhill
DESCRIPTION:
URL:https://umbrellayoga.co.uk/event/open-to-all-yoga-in-thornhill/2025-09-03/
LOCATION:Thornhill Lees Community Centre\, 53 Brewery Ln\, Dewsbury\, WF12 9DU
ORGANIZER;CN="Umbrella Yoga":MAILTO:hello@umbrellayoga.co.uk
END:VEVENT
BEGIN:VEVENT
DTSTART;TZID=Europe/London:20250827T180000
DTEND;TZID=Europe/London:20250827T190000
DTSTAMP:20260423T093442
CREATED:20250723T160016Z
LAST-MODIFIED:20250804T165306Z
UID:10001360-1756317600-1756321200@umbrellayoga.co.uk
SUMMARY:Open to All\, Yoga in Thornhill
DESCRIPTION:
URL:https://umbrellayoga.co.uk/event/open-to-all-yoga-in-thornhill/2025-08-27/
LOCATION:Thornhill Lees Community Centre\, 53 Brewery Ln\, Dewsbury\, WF12 9DU
ORGANIZER;CN="Umbrella Yoga":MAILTO:hello@umbrellayoga.co.uk
END:VEVENT
BEGIN:VEVENT
DTSTART;TZID=Europe/London:20250820T180000
DTEND;TZID=Europe/London:20250820T190000
DTSTAMP:20260423T093442
CREATED:20250723T160016Z
LAST-MODIFIED:20250804T165306Z
UID:10001359-1755712800-1755716400@umbrellayoga.co.uk
SUMMARY:Open to All\, Yoga in Thornhill
DESCRIPTION:
URL:https://umbrellayoga.co.uk/event/open-to-all-yoga-in-thornhill/2025-08-20/
LOCATION:Thornhill Lees Community Centre\, 53 Brewery Ln\, Dewsbury\, WF12 9DU
ORGANIZER;CN="Umbrella Yoga":MAILTO:hello@umbrellayoga.co.uk
END:VEVENT
BEGIN:VEVENT
DTSTART;TZID=Europe/London:20250813T180000
DTEND;TZID=Europe/London:20250813T190000
DTSTAMP:20260423T093442
CREATED:20250723T160016Z
LAST-MODIFIED:20250804T165306Z
UID:10001358-1755108000-1755111600@umbrellayoga.co.uk
SUMMARY:Open to All\, Yoga in Thornhill
DESCRIPTION:
URL:https://umbrellayoga.co.uk/event/open-to-all-yoga-in-thornhill/2025-08-13/
LOCATION:Thornhill Lees Community Centre\, 53 Brewery Ln\, Dewsbury\, WF12 9DU
ORGANIZER;CN="Umbrella Yoga":MAILTO:hello@umbrellayoga.co.uk
END:VEVENT
END:VCALENDAR